BEGIN:VCALENDAR
VERSION:2.0
PRODID:icalendar-ruby
CALSCALE:GREGORIAN
BEGIN:VEVENT
DTSTAMP:20210122T075945Z
UID:33ecdd9a-9bf5-40e6-8045-44daa1b44f09
DTSTART;VALUE=DATE:20190821
DESCRIPTION:Property ID# 458910\, Time: 1:00PM
SUMMARY:Auction for 
END:VEVENT
END:VCALENDAR
