BEGIN:VCALENDAR
VERSION:2.0
PRODID:icalendar-ruby
CALSCALE:GREGORIAN
BEGIN:VEVENT
DTSTAMP:20210122T075943Z
UID:0c83e702-d4a8-48f9-bb3d-67845df327f9
DTSTART;VALUE=DATE:20191023
DESCRIPTION:Property ID# 463256\, Time: 1:00PM
SUMMARY:Auction for 
END:VEVENT
END:VCALENDAR
