BEGIN:VCALENDAR
VERSION:2.0
PRODID:icalendar-ruby
CALSCALE:GREGORIAN
BEGIN:VEVENT
DTSTAMP:20210122T075937Z
UID:428ac136-235a-431a-bc61-b6f57787883e
DTSTART;VALUE=DATE:20191207
DESCRIPTION:Property ID# 466198\, Locatoin: On-site (Unless sold prior.)\, 
 Time: 1:00PM
SUMMARY:Auction for 
END:VEVENT
END:VCALENDAR
