BEGIN:VCALENDAR
VERSION:2.0
PRODID:icalendar-ruby
CALSCALE:GREGORIAN
BEGIN:VEVENT
DTSTAMP:20210122T075941Z
UID:ff2e2047-829e-4cf5-985f-8597ba4023bc
DTSTART;VALUE=DATE:20191211
DESCRIPTION:Property ID# 467621\, Time: 1:00PM
SUMMARY:Auction for 
END:VEVENT
END:VCALENDAR
