BEGIN:VCALENDAR
VERSION:2.0
PRODID:icalendar-ruby
CALSCALE:GREGORIAN
BEGIN:VEVENT
DTSTAMP:20210122T080003Z
UID:01c9b1b6-9a43-4470-b9c5-90d73f4d1a23
DTSTART;VALUE=DATE:20191223
DESCRIPTION:Property ID# 469315\, Locatoin: 43 Maclean Street Paraparaumu B
 each\, Time: 2:00PM
SUMMARY:Auction for 
END:VEVENT
END:VCALENDAR
