BEGIN:VCALENDAR
VERSION:2.0
PRODID:icalendar-ruby
CALSCALE:GREGORIAN
BEGIN:VEVENT
DTSTAMP:20210122T075958Z
UID:07b97165-8e2b-4501-82ab-7683bd2a2aeb
DTSTART;VALUE=DATE:20200212
DESCRIPTION:Property ID# 470462\, Locatoin: 43 Maclean Street Paraparaumu B
 each\, Time: 2:00PM
SUMMARY:Auction for 
END:VEVENT
END:VCALENDAR
