BEGIN:VCALENDAR
VERSION:2.0
PRODID:icalendar-ruby
CALSCALE:GREGORIAN
BEGIN:VEVENT
DTSTAMP:20210122T075957Z
UID:9fc97b8f-8117-42c5-8ee0-70123be9ee93
DTSTART;VALUE=DATE:20200310
DESCRIPTION:Property ID# 473325\, Locatoin: 43 Maclean Street Paraparaumu B
 each\, Time: 2:00PM
SUMMARY:Auction for 
END:VEVENT
END:VCALENDAR
