BEGIN:VCALENDAR
VERSION:2.0
PRODID:icalendar-ruby
CALSCALE:GREGORIAN
BEGIN:VEVENT
DTSTAMP:20210122T075954Z
UID:295f33fa-8149-471e-b384-2b7cf61330d7
DTSTART;VALUE=DATE:20200916
DESCRIPTION:Property ID# 488256\, Locatoin: 43 Maclean Street\, Paraparaumu
  Beach\, 5032\, Time: 2:00PM
SUMMARY:Auction for 
END:VEVENT
END:VCALENDAR
