BEGIN:VCALENDAR
VERSION:2.0
PRODID:icalendar-ruby
CALSCALE:GREGORIAN
BEGIN:VEVENT
DTSTAMP:20210122T075952Z
UID:5d314cff-58b7-4125-9509-bcce0bcb9d7f
DTSTART;VALUE=DATE:20200923
DESCRIPTION:Property ID# 489411\, Locatoin: 43 Maclean Street\, Paraparaumu
  Beach\, 5032\, Time: 2:00PM
SUMMARY:Auction for 
END:VEVENT
END:VCALENDAR
