BEGIN:VCALENDAR
VERSION:2.0
PRODID:icalendar-ruby
CALSCALE:GREGORIAN
BEGIN:VEVENT
DTSTAMP:20210122T075951Z
UID:f886b6d6-38a3-42f7-b413-625854e86590
DTSTART;VALUE=DATE:20200930
DESCRIPTION:Property ID# 489412\, Time: 2:00PM
SUMMARY:Auction for 
END:VEVENT
END:VCALENDAR
