BEGIN:VCALENDAR
VERSION:2.0
PRODID:icalendar-ruby
CALSCALE:GREGORIAN
BEGIN:VEVENT
DTSTAMP:20210122T080011Z
UID:ba5539df-9a42-426c-b3fd-a5f797722318
DTSTART;VALUE=DATE:20201008
DESCRIPTION:Property ID# 490124\, Time: 4:00PM
SUMMARY:Auction for 
END:VEVENT
END:VCALENDAR
