BEGIN:VCALENDAR
VERSION:2.0
PRODID:icalendar-ruby
CALSCALE:GREGORIAN
BEGIN:VEVENT
DTSTAMP:20260424T115301Z
UID:64a73814-fac8-403b-811e-b40749dacbaa
DTSTART;VALUE=DATE:20201014
DESCRIPTION:Property ID# 490564\, Time: 2:00PM
SUMMARY:Auction for 
END:VEVENT
END:VCALENDAR
