BEGIN:VCALENDAR
VERSION:2.0
PRODID:icalendar-ruby
CALSCALE:GREGORIAN
BEGIN:VEVENT
DTSTAMP:20210122T075940Z
UID:24275659-f09b-4955-9396-ba26e5a64bd3
DTSTART;VALUE=DATE:20201006
DESCRIPTION:Property ID# 490792\, Time: 4:00PM
SUMMARY:Auction for 
END:VEVENT
END:VCALENDAR
