BEGIN:VCALENDAR
VERSION:2.0
PRODID:icalendar-ruby
CALSCALE:GREGORIAN
BEGIN:VEVENT
DTSTAMP:20210122T075946Z
UID:6fce30b2-629d-416b-8801-24b6b3183963
DTSTART;VALUE=DATE:20201021
DESCRIPTION:Property ID# 490857\, Locatoin: 43 Maclean Street\, Paraparaumu
  Beach\, 5032\, Time: 2:00PM
SUMMARY:Auction for 
END:VEVENT
END:VCALENDAR
