BEGIN:VCALENDAR
VERSION:2.0
PRODID:icalendar-ruby
CALSCALE:GREGORIAN
BEGIN:VEVENT
DTSTAMP:20210122T075427Z
UID:2110be53-1ebd-4b11-ae73-6051de79ac82
DTSTART;VALUE=DATE:20201203
DESCRIPTION:Property ID# 495180\, Time: 4:00PM
SUMMARY:Auction for 2A/25 Maclean Street
END:VEVENT
END:VCALENDAR
