BEGIN:VCALENDAR
VERSION:2.0
PRODID:icalendar-ruby
CALSCALE:GREGORIAN
BEGIN:VEVENT
DTSTAMP:20210122T075931Z
UID:fa9211cb-97ed-4886-9fe2-8be646a20b85
DTSTART;VALUE=DATE:20201219
DESCRIPTION:Property ID# 497598\, Locatoin: On-site\, Time: 3:00PM
SUMMARY:Auction for 
END:VEVENT
END:VCALENDAR
