BEGIN:VCALENDAR
VERSION:2.0
PRODID:icalendar-ruby
CALSCALE:GREGORIAN
BEGIN:VEVENT
DTSTAMP:20210122T075358Z
UID:69d72097-6cdf-4ae9-978f-62002c71b8de
DTSTART;VALUE=DATE:20210213
DESCRIPTION:Property ID# 498354\, Locatoin: On-site (267 Manly Street\, Par
 aparaumu Beach)\, Time: 3:00PM
SUMMARY:Auction for 267 Manly Street
END:VEVENT
END:VCALENDAR
