BEGIN:VCALENDAR
VERSION:2.0
PRODID:icalendar-ruby
CALSCALE:GREGORIAN
BEGIN:VEVENT
DTSTAMP:20210122T075405Z
UID:0fcfef73-08b7-4dc7-82e5-88d1102f93da
DTSTART;VALUE=DATE:20210211
DESCRIPTION:Property ID# 498826\, Time: 11:00AM
SUMMARY:Auction for 4 Conifer Ct
END:VEVENT
END:VCALENDAR
