BEGIN:VCALENDAR
VERSION:2.0
PRODID:icalendar-ruby
CALSCALE:GREGORIAN
BEGIN:VEVENT
DTSTAMP:20210122T075412Z
UID:1d126ed7-f830-4e48-99e5-95bcac48f404
DTSTART;VALUE=DATE:20210209
DESCRIPTION:Property ID# 499879\, Locatoin: 43 Maclean Street\, Paraparaumu
  Beach\, 5032\, Time: 2:00PM
SUMMARY:Auction for 15 Kowhai Grove
END:VEVENT
END:VCALENDAR
