BEGIN:VCALENDAR
VERSION:2.0
PRODID:icalendar-ruby
CALSCALE:GREGORIAN
BEGIN:VEVENT
DTSTAMP:20210122T075355Z
UID:cbcebd38-dfac-46ef-b56b-6653ecbc0026
DTSTART;TZID=Pacific/Auckland:20210124T150000
DTEND;TZID=Pacific/Auckland:20210124T153000
DESCRIPTION:Property ID# 498354
SUMMARY:Openhome for 267 Manly Street
END:VEVENT
END:VCALENDAR
