BEGIN:VCALENDAR
VERSION:2.0
PRODID:icalendar-ruby
CALSCALE:GREGORIAN
BEGIN:VEVENT
DTSTAMP:20210122T080008Z
UID:a21c0c31-ed01-4a6f-928c-b4f5eb74a206
DTSTART;TZID=Pacific/Auckland:20210124T130000
DTEND;TZID=Pacific/Auckland:20210124T133000
DESCRIPTION:Property ID# 499052
SUMMARY:Openhome for 56 Kapanui Road
END:VEVENT
END:VCALENDAR
