BEGIN:VCALENDAR
VERSION:2.0
PRODID:icalendar-ruby
CALSCALE:GREGORIAN
BEGIN:VEVENT
DTSTAMP:20210122T080005Z
UID:d466966d-fb8c-4463-a1e6-87681e429cb2
DTSTART;TZID=Pacific/Auckland:20210120T183000
DTEND;TZID=Pacific/Auckland:20210120T190000
DESCRIPTION:Property ID# 499605
SUMMARY:Openhome for 12 Atua Street
END:VEVENT
END:VCALENDAR
