BEGIN:VCALENDAR
VERSION:2.0
PRODID:icalendar-ruby
CALSCALE:GREGORIAN
BEGIN:VEVENT
DTSTAMP:20210122T075409Z
UID:f3ab1622-2e30-4262-bcfc-3d14ef430d71
DTSTART;TZID=Pacific/Auckland:20210124T120000
DTEND;TZID=Pacific/Auckland:20210124T123000
DESCRIPTION:Property ID# 499879
SUMMARY:Openhome for 15 Kowhai Grove
END:VEVENT
END:VCALENDAR
