BEGIN:VCALENDAR
VERSION:2.0
PRODID:icalendar-ruby
CALSCALE:GREGORIAN
BEGIN:VEVENT
DTSTAMP:20210122T075404Z
UID:1cb58d35-0be0-4d8b-aeab-d302c33610aa
DTSTART;TZID=Pacific/Auckland:20210124T133000
DTEND;TZID=Pacific/Auckland:20210124T140000
DESCRIPTION:Property ID# 498826
SUMMARY:Openhome for 4 Conifer Ct
END:VEVENT
END:VCALENDAR
