BEGIN:VCALENDAR
VERSION:2.0
PRODID:icalendar-ruby
CALSCALE:GREGORIAN
BEGIN:VEVENT
DTSTAMP:20210122T075418Z
UID:3eaf6fc6-42dd-483a-bcaa-55e4b74d4036
DTSTART;TZID=Pacific/Auckland:20210124T160000
DTEND;TZID=Pacific/Auckland:20210124T163000
DESCRIPTION:Property ID# 500027
SUMMARY:Openhome for 8 Marine Parade
END:VEVENT
END:VCALENDAR
