BEGIN:VCALENDAR
VERSION:2.0
PRODID:icalendar-ruby
CALSCALE:GREGORIAN
BEGIN:VEVENT
DTSTAMP:20260420T004219Z
UID:9cc21a92-20bc-4d7f-8ac8-86d6e63043ea
DTSTART;VALUE=DATE:20210626
DESCRIPTION:Property ID# 510586\, Time: 11:00AM
SUMMARY:Auction for 
END:VEVENT
END:VCALENDAR
